
BEGIN:VCALENDAR
VERSION:2.0
PRODID:-//wp-events-plugin.com//7.2.3.1//EN
TZID:Europe/Paris
X-WR-TIMEZONE:Europe/Paris
BEGIN:VEVENT
UID:83@cenac33.fr
DTSTART;TZID=Europe/Paris:20230311T203000
DTEND;TZID=Europe/Paris:20230311T224500
DTSTAMP:20230301T144150Z
URL:https://www.cenac33.fr/events/bd-concert-lhomme-a-la-tete-de-lion/
SUMMARY:BD Concert "L'Homme à la tête de lion"
DESCRIPTION:
CATEGORIES:Cénac Culture,Vie municipale
LOCATION:Salle Culturelle\, Allées des Ecoliers\, Cénac\, 33360\, France
X-APPLE-STRUCTURED-LOCATION;VALUE=URI;X-ADDRESS=Allées des Ecoliers\, Cén
 ac\, 33360\, France;X-APPLE-RADIUS=100;X-TITLE=Salle Culturelle:geo:0,0
END:VEVENT
BEGIN:VTIMEZONE
TZID:Europe/Paris
X-LIC-LOCATION:Europe/Paris
BEGIN:STANDARD
DTSTART:20221030T020000
TZOFFSETFROM:+0200
TZOFFSETTO:+0100
TZNAME:CET
END:STANDARD
END:VTIMEZONE
END:VCALENDAR